BEGIN:VCALENDAR
VERSION:2.0
PRODID:-//ChamberMaster//Event Calendar 2.0//EN
METHOD:PUBLISH
X-PUBLISHED-TTL:P3D
REFRESH-INTERVAL:P3D
CALSCALE:GREGORIAN
BEGIN:VEVENT
DTSTART;VALUE=DATE:20181211
DTEND;VALUE=DATE:20181212
TRANSP:TRANSPARENT
X-MICROSOFT-CDO-ALLDAYEVENT:TRUE
SUMMARY:Create Connected Employees in a Multi-generational Workplace
DESCRIPTION:Zach Blumenfeld\, is Co-Founder of ThirdSpace\, cloud-based software that helps create and maintain workplace culture by gamifying and addressing core business challenges around employee engagement\, onboarding/career development\, and workplace knowledge. Zach is also the Founder/CEO of CultureCon\, an organization with a mission to impact the workplace by connecting humans to spread positive change around organizational culture. Zach has presented at events including: University of Wisconsin Innovation Keynote\, DisruptHR\, and SHRM on topics that include: culture\, engagement\, and connecting your team to the mission of the organization. In his spare time\, he loves to travel the world and all things sports (Go Badgers!). You can find him on Twitter at @ZachBlum or on LinkedIn. Make What You Do Matter.\n\n \n\nYou will learn:\n\n* The latest research on disengagement and the cost of turnover\n\n* How ThirdSpace's Software is fixing the broken workplace\n\n* How to create a culture of innovation to combat "We've done it this way the last 10 years."\n\n* Move over Millennials - Gen Z is the new kid on the block\n\n* How to work with remote locations and multi-building workers to make them feel a valued part of your company's culture\n\n* Diversity & Inclusion\n\n* How mission-driven work improves the lives of your employees
X-ALT-DESC;FMTTYPE=text/html:<p style="margin: 0px\; min-height: 1.5em\; color: rgb(0\, 0\, 0)\; font-family: avenir-lt-w01_35-light1475496\, sans-serif\; font-size: 16px\; font-style: normal\; font-variant-ligatures: normal\; font-variant-caps: normal\; font-weight: 400\; letter-spacing: normal\; orphans: 2\; text-align: left\; text-indent: 0px\; text-transform: none\; white-space: normal\; widows: 2\; word-spacing: 0px\; -webkit-text-stroke-width: 0px\; text-decoration-style: initial\; text-decoration-color: initial\;">Zach Blumenfeld\, is Co-Founder of ThirdSpace\, cloud-based software that helps create and maintain workplace culture by gamifying and addressing core business challenges around employee engagement\, onboarding/career development\, and workplace knowledge. Zach is also the Founder/CEO of CultureCon\, an organization with a mission to impact the workplace by connecting humans to spread positive change around organizational culture. Zach has presented at events including: University of Wisconsin Innovation Keynote\, DisruptHR\, and SHRM on topics that include: culture\, engagement\, and connecting your team to the mission of the organization. In his spare time\, he loves to travel the world and all things sports (Go Badgers!). You can find him on Twitter at @ZachBlum or on LinkedIn. Make What You Do Matter.</p>\n\n<p style="margin: 0px\; min-height: 1.5em\; color: rgb(0\, 0\, 0)\; font-family: avenir-lt-w01_35-light1475496\, sans-serif\; font-size: 16px\; font-style: normal\; font-variant-ligatures: normal\; font-variant-caps: normal\; font-weight: 400\; letter-spacing: normal\; orphans: 2\; text-align: left\; text-indent: 0px\; text-transform: none\; white-space: normal\; widows: 2\; word-spacing: 0px\; -webkit-text-stroke-width: 0px\; text-decoration-style: initial\; text-decoration-color: initial\;">&nbsp\;</p>\n\n<p style="margin: 0px\; min-height: 1.5em\; color: rgb(0\, 0\, 0)\; font-family: avenir-lt-w01_35-light1475496\, sans-serif\; font-size: 16px\; font-style: normal\; font-variant-ligatures: normal\; font-variant-caps: normal\; font-weight: 400\; letter-spacing: normal\; orphans: 2\; text-align: left\; text-indent: 0px\; text-transform: none\; white-space: normal\; widows: 2\; word-spacing: 0px\; -webkit-text-stroke-width: 0px\; text-decoration-style: initial\; text-decoration-color: initial\;">You will learn:</p>\n\n<p style="margin: 0px\; min-height: 1.5em\; color: rgb(0\, 0\, 0)\; font-family: avenir-lt-w01_35-light1475496\, sans-serif\; font-size: 16px\; font-style: normal\; font-variant-ligatures: normal\; font-variant-caps: normal\; font-weight: 400\; letter-spacing: normal\; orphans: 2\; text-align: left\; text-indent: 0px\; text-transform: none\; white-space: normal\; widows: 2\; word-spacing: 0px\; -webkit-text-stroke-width: 0px\; text-decoration-style: initial\; text-decoration-color: initial\;">* The latest research on disengagement and the cost of turnover</p>\n\n<p style="margin: 0px\; min-height: 1.5em\; color: rgb(0\, 0\, 0)\; font-family: avenir-lt-w01_35-light1475496\, sans-serif\; font-size: 16px\; font-style: normal\; font-variant-ligatures: normal\; font-variant-caps: normal\; font-weight: 400\; letter-spacing: normal\; orphans: 2\; text-align: left\; text-indent: 0px\; text-transform: none\; white-space: normal\; widows: 2\; word-spacing: 0px\; -webkit-text-stroke-width: 0px\; text-decoration-style: initial\; text-decoration-color: initial\;">* How ThirdSpace&#39\;s Software is fixing the broken workplace</p>\n\n<p style="margin: 0px\; min-height: 1.5em\; color: rgb(0\, 0\, 0)\; font-family: avenir-lt-w01_35-light1475496\, sans-serif\; font-size: 16px\; font-style: normal\; font-variant-ligatures: normal\; font-variant-caps: normal\; font-weight: 400\; letter-spacing: normal\; orphans: 2\; text-align: left\; text-indent: 0px\; text-transform: none\; white-space: normal\; widows: 2\; word-spacing: 0px\; -webkit-text-stroke-width: 0px\; text-decoration-style: initial\; text-decoration-color: initial\;">* How to create a culture of innovation to combat &ldquo\;We&rsquo\;ve done it this way the last 10 years.&rdquo\;</p>\n\n<p style="margin: 0px\; min-height: 1.5em\; color: rgb(0\, 0\, 0)\; font-family: avenir-lt-w01_35-light1475496\, sans-serif\; font-size: 16px\; font-style: normal\; font-variant-ligatures: normal\; font-variant-caps: normal\; font-weight: 400\; letter-spacing: normal\; orphans: 2\; text-align: left\; text-indent: 0px\; text-transform: none\; white-space: normal\; widows: 2\; word-spacing: 0px\; -webkit-text-stroke-width: 0px\; text-decoration-style: initial\; text-decoration-color: initial\;">* Move over Millennials - Gen Z is the new kid on the block</p>\n\n<p style="margin: 0px\; min-height: 1.5em\; color: rgb(0\, 0\, 0)\; font-family: avenir-lt-w01_35-light1475496\, sans-serif\; font-size: 16px\; font-style: normal\; font-variant-ligatures: normal\; font-variant-caps: normal\; font-weight: 400\; letter-spacing: normal\; orphans: 2\; text-align: left\; text-indent: 0px\; text-transform: none\; white-space: normal\; widows: 2\; word-spacing: 0px\; -webkit-text-stroke-width: 0px\; text-decoration-style: initial\; text-decoration-color: initial\;">* How to work with remote locations and multi-building workers to make them feel a valued part of your company&rsquo\;s culture</p>\n\n<p style="margin: 0px\; min-height: 1.5em\; color: rgb(0\, 0\, 0)\; font-family: avenir-lt-w01_35-light1475496\, sans-serif\; font-size: 16px\; font-style: normal\; font-variant-ligatures: normal\; font-variant-caps: normal\; font-weight: 400\; letter-spacing: normal\; orphans: 2\; text-align: left\; text-indent: 0px\; text-transform: none\; white-space: normal\; widows: 2\; word-spacing: 0px\; -webkit-text-stroke-width: 0px\; text-decoration-style: initial\; text-decoration-color: initial\;">* Diversity &amp\; Inclusion</p>\n\n<p style="margin: 0px\; min-height: 1.5em\; color: rgb(0\, 0\, 0)\; font-family: avenir-lt-w01_35-light1475496\, sans-serif\; font-size: 16px\; font-style: normal\; font-variant-ligatures: normal\; font-variant-caps: normal\; font-weight: 400\; letter-spacing: normal\; orphans: 2\; text-align: left\; text-indent: 0px\; text-transform: none\; white-space: normal\; widows: 2\; word-spacing: 0px\; -webkit-text-stroke-width: 0px\; text-decoration-style: initial\; text-decoration-color: initial\;">* How mission-driven work improves the lives of your employees</p>\n
LOCATION:Beloit Library Meeting Room\, 605 Eclipse Blvd\, Beloit\, WI 53511
UID:e.2666.291
SEQUENCE:3
DTSTAMP:20260421T150007Z
URL:https://business.forwardjanesville.com/events/details/create-connected-employees-in-a-multi-generational-workplace-291
END:VEVENT

END:VCALENDAR
