BEGIN:VCALENDAR
VERSION:2.0
PRODID:-//ChamberMaster//Event Calendar 2.0//EN
METHOD:PUBLISH
X-PUBLISHED-TTL:P3D
REFRESH-INTERVAL:P3D
CALSCALE:GREGORIAN
BEGIN:VEVENT
DTSTART:20250206T220000Z
DTEND:20250206T225000Z
X-MICROSOFT-CDO-ALLDAYEVENT:FALSE
SUMMARY:Expo 2025 - Winning Marketing Strategies for Your Business in 2025
DESCRIPTION:Discover how to position your business for success in 2025 with insights from local marketing experts.\n\n\n\nThis panel will discuss emerging trends\, tools\, and strategies to help you navigate the ever-evolving digital landscape.\n\n\n\nFrom leveraging AI and social media to creating authentic connections with your audience\, you'll gain actionable tips to stay ahead of the competition and drive growth in the year ahead.\n\n\n\nPerfect for businesses of all sizes looking to maximize their marketing impact!\n\nSession is sponsored by Roundhouse Marketing.
X-ALT-DESC;FMTTYPE=text/html:<p class="m-7550245997972563397xmsonormal"><span style="font-size:16px\;"><span style="font-family:arial\;">Discover how to position your business for success in 2025 with insights from local marketing experts.<br />\n<br />\nThis panel will discuss emerging trends\, tools\, and&nbsp\;strategies to help you navigate the ever-evolving digital landscape.<br />\n<br />\nFrom leveraging AI and social media to creating authentic connections with your audience\, you&#39\;ll gain actionable tips to stay ahead of the competition and drive growth in the year ahead.<br />\n<br />\nPerfect for businesses of all sizes looking to maximize their marketing impact!</span></span></p>\n\n<div class="m-7550245997972563397xmsonormal"><span style="font-size:16px\;"><span style="font-family:arial\;">Session is sponsored by Roundhouse Marketing.</span></span></div>\n
LOCATION:Holiday Inn - Janesville Conference Center 3100 Wellington Place *Room location will be posted at the Expo.
UID:e.2666.500
SEQUENCE:3
DTSTAMP:20260425T221815Z
URL:https://business.forwardjanesville.com/events/details/expo-2025-winning-marketing-strategies-for-your-business-in-2025-500
END:VEVENT

END:VCALENDAR
